BEGIN:VCALENDAR
VERSION:2.0
PRODID:-//JCI Ames (Ames Jaycees) - ECPv6.13.2.1//NONSGML v1.0//EN
CALSCALE:GREGORIAN
METHOD:PUBLISH
X-WR-CALNAME:JCI Ames (Ames Jaycees)
X-ORIGINAL-URL:https://amesjaycees.com
X-WR-CALDESC:Events for JCI Ames (Ames Jaycees)
REFRESH-INTERVAL;VALUE=DURATION:PT1H
X-Robots-Tag:noindex
X-PUBLISHED-TTL:PT1H
BEGIN:VTIMEZONE
TZID:America/Chicago
BEGIN:DAYLIGHT
TZOFFSETFROM:-0600
TZOFFSETTO:-0500
TZNAME:CDT
DTSTART:20250309T080000
END:DAYLIGHT
BEGIN:STANDARD
TZOFFSETFROM:-0500
TZOFFSETTO:-0600
TZNAME:CST
DTSTART:20251102T070000
END:STANDARD
END:VTIMEZONE
BEGIN:VEVENT
DTSTART;TZID=America/Chicago:20250417T180000
DTEND;TZID=America/Chicago:20250417T200000
DTSTAMP:20260423T223333
CREATED:20250416T162723Z
LAST-MODIFIED:20250416T162723Z
UID:1239-1744912800-1744920000@amesjaycees.com
SUMMARY:April 2025 Membership Meeting
DESCRIPTION:The Ames Jaycees Membership Meetings take place on the third Thursday of each month at 6 PM at the Somerset Clubhouse. Dinner will be provided at 6 PM and formal meeting beginning at 6:30 PM.
URL:https://amesjaycees.com/calendar/april-2025-membership-meeting/
LOCATION:Somerset Clubhouse\, 2400 Aspen Rd\, Ames\, IA\, 50010\, United States
CATEGORIES:Meetings
END:VEVENT
BEGIN:VEVENT
DTSTART;TZID=America/Chicago:20250422T180000
DTEND;TZID=America/Chicago:20250422T193000
DTSTAMP:20260423T223333
CREATED:20250416T165040Z
LAST-MODIFIED:20250416T165240Z
UID:1256-1745344800-1745350200@amesjaycees.com
SUMMARY:Ames on the Half Shell Committee Meeting
DESCRIPTION:Join the planning process for Ames on the Half Shell!
URL:https://amesjaycees.com/calendar/ames-on-the-half-shell-committee-meeting-3/
LOCATION:Ames Public Library\, 515 Douglas Avenue\, Ames\, IA\, 50010\, United States
CATEGORIES:Ames on the Half Shell
END:VEVENT
BEGIN:VEVENT
DTSTART;TZID=America/Chicago:20250426T100000
DTEND;TZID=America/Chicago:20250426T113000
DTSTAMP:20260423T223333
CREATED:20250417T020815Z
LAST-MODIFIED:20250423T184327Z
UID:1275-1745661600-1745667000@amesjaycees.com
SUMMARY:Stash the Trash
DESCRIPTION:Help clean up the Brookside Park! Coffee and bagels will be provided.
URL:https://amesjaycees.com/calendar/stash-the-trash/
LOCATION:Friends of Brookside Park\, 1325 6th St\, Ames\, IA\, 50010\, United States
CATEGORIES:Community Outreach
END:VEVENT
END:VCALENDAR