BEGIN:VCALENDAR
VERSION:2.0
PRODID:-//JCI Ames (Ames Jaycees) - ECPv6.13.2.1//NONSGML v1.0//EN
CALSCALE:GREGORIAN
METHOD:PUBLISH
X-ORIGINAL-URL:https://amesjaycees.com
X-WR-CALDESC:Events for JCI Ames (Ames Jaycees)
REFRESH-INTERVAL;VALUE=DURATION:PT1H
X-Robots-Tag:noindex
X-PUBLISHED-TTL:PT1H
BEGIN:VTIMEZONE
TZID:America/Chicago
BEGIN:DAYLIGHT
TZOFFSETFROM:-0600
TZOFFSETTO:-0500
TZNAME:CDT
DTSTART:20240310T080000
END:DAYLIGHT
BEGIN:STANDARD
TZOFFSETFROM:-0500
TZOFFSETTO:-0600
TZNAME:CST
DTSTART:20241103T070000
END:STANDARD
END:VTIMEZONE
BEGIN:VEVENT
DTSTART;TZID=America/Chicago:20241109T100000
DTEND;TZID=America/Chicago:20241109T120000
DTSTAMP:20260424T112115
CREATED:20241017T160136Z
LAST-MODIFIED:20241017T160136Z
UID:1204-1731146400-1731153600@amesjaycees.com
SUMMARY:Volunteer Opportunity: Salvation Army Bell Ringing
DESCRIPTION:It’s the season of giving back and this is a small way to make an impact. Let’s pick up the bell and ring for a couple hours on Saturday\, November 9 from 10 AM – 12 PM at the North Fareway. All are welcome to ring – let’s have fun and give back!
URL:https://amesjaycees.com/calendar/volunteer-opportunity-salvation-army-bell-ringing/
LOCATION:North Fareway
CATEGORIES:Community Outreach
ATTACH;FMTTYPE=image/jpeg:https://amesjaycees.com/wp-content/uploads/2024/10/Salvation-Army-November-9.jpg
END:VEVENT
BEGIN:VEVENT
DTSTART;TZID=America/Chicago:20241121T183000
DTEND;TZID=America/Chicago:20241121T210000
DTSTAMP:20260424T112115
CREATED:20241114T013621Z
LAST-MODIFIED:20241114T013652Z
UID:1224-1732213800-1732222800@amesjaycees.com
SUMMARY:2025 Board Elections
DESCRIPTION:Come enjoy a good meal with the Ames Jaycees and elect the 2025 board! The chapter will purchase dinner and appetizers\, individuals will be responsible for alcoholic drinks. Please RSVP so we can get an accurate head count.
URL:https://amesjaycees.com/calendar/2024-board-elections/
LOCATION:Open Flame\, 225 Main St\, Gilbert\, IA\, 50105\, United States
CATEGORIES:Meetings
ATTACH;FMTTYPE=image/png:https://amesjaycees.com/wp-content/uploads/2024/11/November-MembershipElections-1.png
END:VEVENT
BEGIN:VEVENT
DTSTART;TZID=America/Chicago:20241126T173000
DTEND;TZID=America/Chicago:20241126T193000
DTSTAMP:20260424T112115
CREATED:20241017T165505Z
LAST-MODIFIED:20241018T000917Z
UID:1213-1732642200-1732649400@amesjaycees.com
SUMMARY:Volunteer Opportunity: Food at First
DESCRIPTION:Join the Ames Jaycees and volunteer at Food at First. What does Food at First do? Food at First prepares and provides food to community members struggling with hunger and food insecurity! \nTuesday\, November 26 from 5:30 – 7:30 PM \nFirst Christian Church\, Ames
URL:https://amesjaycees.com/calendar/volunteer-opportunity-food-at-first/
LOCATION:Food at First
CATEGORIES:Community Outreach
ATTACH;FMTTYPE=image/png:https://amesjaycees.com/wp-content/uploads/2024/10/Volunteer-Opportunity-Food-at-First-1.png
END:VEVENT
END:VCALENDAR