BEGIN:VCALENDAR
VERSION:2.0
PRODID:-//JCI Ames (Ames Jaycees) - ECPv6.13.2.1//NONSGML v1.0//EN
CALSCALE:GREGORIAN
METHOD:PUBLISH
X-ORIGINAL-URL:https://amesjaycees.com
X-WR-CALDESC:Events for JCI Ames (Ames Jaycees)
REFRESH-INTERVAL;VALUE=DURATION:PT1H
X-Robots-Tag:noindex
X-PUBLISHED-TTL:PT1H
BEGIN:VTIMEZONE
TZID:America/Chicago
BEGIN:DAYLIGHT
TZOFFSETFROM:-0600
TZOFFSETTO:-0500
TZNAME:CDT
DTSTART:20250309T080000
END:DAYLIGHT
BEGIN:STANDARD
TZOFFSETFROM:-0500
TZOFFSETTO:-0600
TZNAME:CST
DTSTART:20251102T070000
END:STANDARD
BEGIN:DAYLIGHT
TZOFFSETFROM:-0600
TZOFFSETTO:-0500
TZNAME:CDT
DTSTART:20260308T080000
END:DAYLIGHT
BEGIN:STANDARD
TZOFFSETFROM:-0500
TZOFFSETTO:-0600
TZNAME:CST
DTSTART:20261101T070000
END:STANDARD
END:VTIMEZONE
BEGIN:VEVENT
DTSTART;TZID=America/Chicago:20250918T180000
DTEND;TZID=America/Chicago:20250918T200000
DTSTAMP:20260423T153359
CREATED:20250416T163431Z
LAST-MODIFIED:20250416T163431Z
UID:1249-1758218400-1758225600@amesjaycees.com
SUMMARY:September 2025 Membership Meeting
DESCRIPTION:The Ames Jaycees Membership Meetings take place on the third Thursday of each month at 6 PM at the Somerset Clubhouse. Dinner will be provided at 6 PM and formal meeting beginning at 6:30 PM.
URL:https://amesjaycees.com/calendar/september-2025-membership-meeting/
LOCATION:Somerset Clubhouse\, 2400 Aspen Rd\, Ames\, IA\, 50010\, United States
CATEGORIES:Meetings
END:VEVENT
BEGIN:VEVENT
DTSTART;TZID=America/Chicago:20250920T173000
DTEND;TZID=America/Chicago:20250920T203000
DTSTAMP:20260423T153359
CREATED:20250820T212453Z
LAST-MODIFIED:20250820T212453Z
UID:1324-1758389400-1758400200@amesjaycees.com
SUMMARY:Social: Iowa Cubs Baseball Game
DESCRIPTION:Enjoy a fun night of baseball with the Jaycees! RSVP with Travis by August 31st.
URL:https://amesjaycees.com/calendar/social-iowa-cubs-baseball-game/
LOCATION:Principal Park\, 1 Line Drive\, Des Moines\, IA\, United States
END:VEVENT
BEGIN:VEVENT
DTSTART;TZID=America/Chicago:20251016T180000
DTEND;TZID=America/Chicago:20251016T200000
DTSTAMP:20260423T153359
CREATED:20250416T163512Z
LAST-MODIFIED:20250416T163512Z
UID:1251-1760637600-1760644800@amesjaycees.com
SUMMARY:October 2025 Membership Meeting
DESCRIPTION:The Ames Jaycees Membership Meetings take place on the third Thursday of each month at 6 PM at the Somerset Clubhouse. Dinner will be provided at 6 PM and formal meeting beginning at 6:30 PM.
URL:https://amesjaycees.com/calendar/october-2025-membership-meeting/
LOCATION:Somerset Clubhouse\, 2400 Aspen Rd\, Ames\, IA\, 50010\, United States
CATEGORIES:Meetings
END:VEVENT
BEGIN:VEVENT
DTSTART;TZID=America/Chicago:20251120T183000
DTEND;TZID=America/Chicago:20251120T210000
DTSTAMP:20260423T153359
CREATED:20251112T221602Z
LAST-MODIFIED:20251112T221602Z
UID:1330-1763663400-1763672400@amesjaycees.com
SUMMARY:2026 Board Elections
DESCRIPTION:Come enjoy a good meal with the Ames Jaycees and elect the 2026 board! The chapter will purchase dinner and appetizers\, individuals will be responsible for alcoholic drinks. Please RSVP so we can get an accurate head count.
URL:https://amesjaycees.com/calendar/2026-board-elections/
LOCATION:Open Flame\, 225 Main St\, Gilbert\, IA\, 50105\, United States
CATEGORIES:Meetings,Social Events
END:VEVENT
BEGIN:VEVENT
DTSTART;TZID=America/Chicago:20251213T080000
DTEND;TZID=America/Chicago:20251213T103000
DTSTAMP:20260423T153359
CREATED:20251205T221618Z
LAST-MODIFIED:20251205T221631Z
UID:1356-1765612800-1765621800@amesjaycees.com
SUMMARY:Holiday Food Baskets
DESCRIPTION:Help support the longest running Ames Jaycees event! Holiday Food Baskets will take place on Saturday\, December 13th. Please arrive to MICA at 8 AM to assemble food baskets and then we will hand them out to members of the community starting at 9 AM.
URL:https://amesjaycees.com/calendar/holiday-food-baskets/
LOCATION:MICA\, 230 SE 16th St.\, Ames\, IA\, 50010\, United States
CATEGORIES:Community Outreach
END:VEVENT
BEGIN:VEVENT
DTSTART;TZID=America/Chicago:20251213T110000
DTEND;TZID=America/Chicago:20251213T130000
DTSTAMP:20260423T153359
CREATED:20251120T233217Z
LAST-MODIFIED:20251120T233217Z
UID:1348-1765623600-1765630800@amesjaycees.com
SUMMARY:Salvation Army Bell Ringing
DESCRIPTION:Make a difference in the community and ring the Salvation Army Bell! Dress festive and warm\, we hope to raise a lot of money in our kettle!
URL:https://amesjaycees.com/calendar/salvation-army-bell-ringing/
LOCATION:Hy-Vee\, 640 Lincoln Way\, Ames\, IA\, 50010\, United States
CATEGORIES:Community Outreach
END:VEVENT
BEGIN:VEVENT
DTSTART;TZID=America/Chicago:20251218T183000
DTEND;TZID=America/Chicago:20251218T203000
DTSTAMP:20260423T153359
CREATED:20251205T221426Z
LAST-MODIFIED:20251205T221426Z
UID:1354-1766082600-1766089800@amesjaycees.com
SUMMARY:Holiday Party 2025
DESCRIPTION:Happy Holidays! Join the Ames Jaycees for a holiday party on Thursday\, December 18 at 6:30 PM in the Somerset Clubhouse. We will be doing a gift exchange – please bring an item that is new or gently used ($10 or more) to exchange with the group. \nBring a side to share for food and we will enjoy a dinner together.
URL:https://amesjaycees.com/calendar/holiday-party-2025/
LOCATION:Somerset Clubhouse\, 2400 Aspen Rd\, Ames\, IA\, 50010\, United States
CATEGORIES:Meetings,Social Events
END:VEVENT
BEGIN:VEVENT
DTSTART;TZID=America/Chicago:20260115T183000
DTEND;TZID=America/Chicago:20260115T200000
DTSTAMP:20260423T153359
CREATED:20260112T145026Z
LAST-MODIFIED:20260112T145026Z
UID:1362-1768501800-1768507200@amesjaycees.com
SUMMARY:January Membership Meeting
DESCRIPTION:Start the year of 2026 off right – join us for our January Membership Meeting! \nDinner will be served at 6 PM\, with meeting beginning at 6:30 PM. We will be swearing in our new board members and creating goals for 2026! \nAll are welcome to join! \n 
URL:https://amesjaycees.com/calendar/january-membership-meeting-2/
LOCATION:Somerset Clubhouse\, 2400 Aspen Rd\, Ames\, IA\, 50010\, United States
CATEGORIES:Meetings
END:VEVENT
BEGIN:VEVENT
DTSTART;TZID=America/Chicago:20260124T133000
DTEND;TZID=America/Chicago:20260124T150000
DTSTAMP:20260423T153359
CREATED:20260112T150025Z
LAST-MODIFIED:20260112T150025Z
UID:1370-1769261400-1769266800@amesjaycees.com
SUMMARY:Volunteer: Table at the Community
DESCRIPTION:Volunteer with the Ames Jaycees and table at the Community Volunteer Fair\, sponsored by Discover Ames. This is a perfect opportunity to come meet the Jaycees and promote the organization. This event will take place on Saturday\, January 24 from 1:30 – 3 PM at the Ames Public Library! \nNot a member? Come meet us!
URL:https://amesjaycees.com/calendar/volunteer-table-at-the-community/
LOCATION:Ames Public Library\, 515 Douglas Avenue\, Ames\, IA\, 50010\, United States
CATEGORIES:Community Outreach
END:VEVENT
BEGIN:VEVENT
DTSTART;TZID=America/Chicago:20260128T183000
DTEND;TZID=America/Chicago:20260128T210000
DTSTAMP:20260423T153359
CREATED:20260112T145412Z
LAST-MODIFIED:20260112T145412Z
UID:1364-1769625000-1769634000@amesjaycees.com
SUMMARY:Social: Attend Brains and Brews Trivia
DESCRIPTION:Do you know a lot of random things? Let’s put it to the test! Join the Ames Jaycees while we attend Brains and Brews Trivia at Alluvial Brewing on Wednesday\, January 28 at 7 PM. We plan to get a table around 6:30 PM. It’s free to play!
URL:https://amesjaycees.com/calendar/social-attend-brains-and-brews-trivia/
LOCATION:Alluvial Brewing\, 3715 W 190th St\, Ames\, IA\, 50014\, United States
CATEGORIES:Social Events
END:VEVENT
BEGIN:VEVENT
DTSTART;TZID=America/Chicago:20260215T123000
DTEND;TZID=America/Chicago:20260215T150000
DTSTAMP:20260423T153359
CREATED:20260112T145715Z
LAST-MODIFIED:20260112T145715Z
UID:1368-1771158600-1771167600@amesjaycees.com
SUMMARY:Social: Attend Iowa State Women's Basketball Game
DESCRIPTION:Let’s cheer on the Iowa State Women’s Basketball team while they take on Kansas State! Game is at 1 PM on Sunday\, February 15. Please meet by the ticket office at 12:45 PM so the chapter can pay for tickets.
URL:https://amesjaycees.com/calendar/social-attend-iowa-state-womens-basketball-game/
LOCATION:Hilton Coliseum\, 1705 Center Dr.\, Ames\, IA\, 50010\, United States
CATEGORIES:Social Events
END:VEVENT
BEGIN:VEVENT
DTSTART;TZID=America/Chicago:20260219T183000
DTEND;TZID=America/Chicago:20260219T200000
DTSTAMP:20260423T153359
CREATED:20260115T165758Z
LAST-MODIFIED:20260121T172937Z
UID:1373-1771525800-1771531200@amesjaycees.com
SUMMARY:February Membership Meeting
DESCRIPTION:Join the Ames Jaycees for our February Membership Meeting! This will be a special meeting since we will have a professional development opportunity with Piece and Freedom\, a woman & Ukrainian owned bakery in Ames! We are excited to have a conversation with them and learn more about their company! \n6:30 PM on February 19 at Somerset Clubhouse
URL:https://amesjaycees.com/calendar/february-membership-meeting-2/
LOCATION:Somerset Clubhouse\, 2400 Aspen Rd\, Ames\, IA\, 50010\, United States
CATEGORIES:Meetings,Professional Development
END:VEVENT
BEGIN:VEVENT
DTSTART;TZID=America/Chicago:20260306T063000
DTEND;TZID=America/Chicago:20260306T110000
DTSTAMP:20260423T153359
CREATED:20260302T190954Z
LAST-MODIFIED:20260302T191048Z
UID:1430-1772778600-1772794800@amesjaycees.com
SUMMARY:Volunteer Opportunity: Pancake Days (Hosted by Ames Kiwanis Club)
DESCRIPTION:Support the Ames Kiwanis Club by volunteering at Pancake Days! Kiwanis is looking for volunteers on Saturday\, March 6. Please sign-up with the Sign-Up Genius HERE.
URL:https://amesjaycees.com/calendar/volunteer-opportunity-pancake-days-hosted-by-ames-kiwanis-club/
LOCATION:IA
CATEGORIES:Community Outreach
ATTACH;FMTTYPE=image/webp:https://amesjaycees.com/wp-content/uploads/2026/03/Updated-poster-2026-DRAFT-622x1024-1.webp
END:VEVENT
BEGIN:VEVENT
DTSTART;TZID=America/Chicago:20260310T183000
DTEND;TZID=America/Chicago:20260310T193000
DTSTAMP:20260423T153359
CREATED:20260220T195119Z
LAST-MODIFIED:20260220T195119Z
UID:1421-1773167400-1773171000@amesjaycees.com
SUMMARY:Teacher Appreciation Kits with the United Way
DESCRIPTION:The Ames Jaycees have funded Teacher Appreciation Kits with the United Way\, and now we can assemble the kits!
URL:https://amesjaycees.com/calendar/teacher-appreciation-kits-with-the-united-way/
LOCATION:United Way\, 315 Clark Ave\, Ames\, IA\, 50011\, United States
ATTACH;FMTTYPE=image/png:https://amesjaycees.com/wp-content/uploads/2026/02/United-Way-Volunteering.png
END:VEVENT
BEGIN:VEVENT
DTSTART;TZID=America/Chicago:20260312T183000
DTEND;TZID=America/Chicago:20260312T200000
DTSTAMP:20260423T153359
CREATED:20260220T201421Z
LAST-MODIFIED:20260220T201421Z
UID:1425-1773340200-1773345600@amesjaycees.com
SUMMARY:Ames on the Half Shell Committee Meeting
DESCRIPTION:Planning for the 2026 Half Shell season has begun! We will discuss the upcoming season and distribute tasks including Food Trucks\, Beverages\, Volunteers\, and more! Please join us! \nWe will meet in the PEO Room on March 12 at 6:30 PM
URL:https://amesjaycees.com/calendar/ames-on-the-half-shell-committee-meeting-5/
LOCATION:Ames Public Library\, 515 Douglas Avenue\, Ames\, IA\, 50010\, United States
ATTACH;FMTTYPE=image/jpeg:https://amesjaycees.com/wp-content/uploads/2026/02/Ames-on-the-Half-Shell-Meeting.jpg
END:VEVENT
BEGIN:VEVENT
DTSTART;TZID=America/Chicago:20260319T183000
DTEND;TZID=America/Chicago:20260319T200000
DTSTAMP:20260423T153359
CREATED:20260116T183344Z
LAST-MODIFIED:20260116T183344Z
UID:1391-1773945000-1773950400@amesjaycees.com
SUMMARY:March Membership Meeting
DESCRIPTION:
URL:https://amesjaycees.com/calendar/march-membership-meeting/
LOCATION:Somerset Clubhouse\, 2400 Aspen Rd\, Ames\, IA\, 50010\, United States
CATEGORIES:Meetings
END:VEVENT
BEGIN:VEVENT
DTSTART;TZID=America/Chicago:20260325T183000
DTEND;TZID=America/Chicago:20260325T203000
DTSTAMP:20260423T153359
CREATED:20260204T203853Z
LAST-MODIFIED:20260204T203853Z
UID:1413-1774463400-1774470600@amesjaycees.com
SUMMARY:Cross Stitch Class with Prairie Rose Needle Works
DESCRIPTION:Want to learn a new skill? Come to a private class at Prairie Rose Needle Works with the Ames Jaycees! \nChapter will purchase class for participants. Please RSVP in Facebook group. \n  \n 
URL:https://amesjaycees.com/calendar/cross-stitch-class-with-prairie-rose-needle-works/
LOCATION:Prairie Rose Needle Works\, 500 Main St\, Ste 103\, Ames\, IA\, 50010
CATEGORIES:Social Events
ATTACH;FMTTYPE=image/png:https://amesjaycees.com/wp-content/uploads/2026/02/Cross-Stitch-Class-Jaycees.png
END:VEVENT
BEGIN:VEVENT
DTSTART;TZID=America/Chicago:20260416T183000
DTEND;TZID=America/Chicago:20260416T200000
DTSTAMP:20260423T153359
CREATED:20260116T183427Z
LAST-MODIFIED:20260116T183427Z
UID:1394-1776364200-1776369600@amesjaycees.com
SUMMARY:April Membership Meeting
DESCRIPTION:
URL:https://amesjaycees.com/calendar/april-membership-meeting/
LOCATION:Somerset Clubhouse\, 2400 Aspen Rd\, Ames\, IA\, 50010\, United States
CATEGORIES:Meetings
END:VEVENT
BEGIN:VEVENT
DTSTART;TZID=America/Chicago:20260422T173000
DTEND;TZID=America/Chicago:20260422T193000
DTSTAMP:20260423T153359
CREATED:20260210T173540Z
LAST-MODIFIED:20260210T173540Z
UID:1417-1776879000-1776886200@amesjaycees.com
SUMMARY:Social: Board and Brush Class
DESCRIPTION:Join the Ames Jaycees for a craft night at Board & Brush Creative Studio! RSVP is required prior to attending – you must select your project. \nWednesday\, April 22 at 5:30 PM. Snacks are allowed in – but drinks must be purchased at the shop.
URL:https://amesjaycees.com/calendar/social-board-and-brush-class/
LOCATION:Board and Brush\, 405 Northwestern Ave\, Ames\, IA\, 50010
CATEGORIES:Social Events
END:VEVENT
BEGIN:VEVENT
DTSTART;TZID=America/Chicago:20260425T100000
DTEND;TZID=America/Chicago:20260425T120000
DTSTAMP:20260423T153359
CREATED:20260408T003835Z
LAST-MODIFIED:20260408T003835Z
UID:1464-1777111200-1777118400@amesjaycees.com
SUMMARY:Attend the ISU Football Spring Showcase
DESCRIPTION:Cheer on the Iowa State Cyclones for their Spring Showcase! Come see the players and Coach Rogers in action! We will meet in front of Jack Trice Stadium at 10:00 AM! This is a free event!
URL:https://amesjaycees.com/calendar/attend-the-isu-football-spring-showcase/
LOCATION:Jack Trice Stadium\, 1732 Jack Trice Wy\, Ames\, IA\, 50011\, United States
CATEGORIES:Social Events
END:VEVENT
BEGIN:VEVENT
DTSTART;TZID=America/Chicago:20260505T180000
DTEND;TZID=America/Chicago:20260505T200000
DTSTAMP:20260423T153359
CREATED:20260420T004625Z
LAST-MODIFIED:20260420T004625Z
UID:1472-1778004000-1778011200@amesjaycees.com
SUMMARY:Ames on the Half Shell Meeting & Dinner
DESCRIPTION:Ames on the Half Shell Committee Meeting + Supper Club! We will eat at Monterrey Mexican Grill at 6 PM and give updates about Half Shell! \nMembers pay for their own meals.
URL:https://amesjaycees.com/calendar/ames-on-the-half-shell-meeting-dinner/
LOCATION:Monterrey Mexican Grill\, 823 Wheeler St\, Ames\, IA\, 50010
CATEGORIES:Ames on the Half Shell
END:VEVENT
BEGIN:VEVENT
DTSTART;TZID=America/Chicago:20260507T180000
DTEND;TZID=America/Chicago:20260507T200000
DTSTAMP:20260423T153359
CREATED:20260408T005738Z
LAST-MODIFIED:20260408T005738Z
UID:1467-1778176800-1778184000@amesjaycees.com
SUMMARY:As If! 90s & 2000s Trivia Night with the Ames Jaycees
DESCRIPTION:Join the Ames Jaycees for a fun trivia night! Also learn how to join the Jaycees and learn more about the organization!
URL:https://amesjaycees.com/calendar/as-if-90s-2000s-trivia-night-with-the-ames-jaycees/
LOCATION:Prairie Moon Winery\, 3801 W 190th St\, Ames\, IA\, 50014\, United States
CATEGORIES:Professional Development
END:VEVENT
BEGIN:VEVENT
DTSTART;TZID=America/Chicago:20260521T080000
DTEND;TZID=America/Chicago:20260521T170000
DTSTAMP:20260423T153359
CREATED:20260116T183457Z
LAST-MODIFIED:20260116T183457Z
UID:1396-1779350400-1779382800@amesjaycees.com
SUMMARY:May Membership Meeting
DESCRIPTION:
URL:https://amesjaycees.com/calendar/may-membership-meeting-2/
LOCATION:Somerset Clubhouse\, 2400 Aspen Rd\, Ames\, IA\, 50010\, United States
CATEGORIES:Meetings
END:VEVENT
BEGIN:VEVENT
DTSTART;TZID=America/Chicago:20260526T183000
DTEND;TZID=America/Chicago:20260526T203000
DTSTAMP:20260423T153359
CREATED:20260408T132403Z
LAST-MODIFIED:20260408T132403Z
UID:1470-1779820200-1779827400@amesjaycees.com
SUMMARY:Ames on the Half Shell Kick-Off Party!
DESCRIPTION:Celebrate the start of the AOTHS Season! More details to come but mark your calendars!
URL:https://amesjaycees.com/calendar/ames-on-the-half-shell-kick-off-party-2/
LOCATION:IA
CATEGORIES:Ames on the Half Shell,Social Events
END:VEVENT
BEGIN:VEVENT
DTSTART;TZID=America/Chicago:20260716T183000
DTEND;TZID=America/Chicago:20260716T200000
DTSTAMP:20260423T153359
CREATED:20260116T183539Z
LAST-MODIFIED:20260116T183539Z
UID:1398-1784226600-1784232000@amesjaycees.com
SUMMARY:July Membership Meeting
DESCRIPTION:
URL:https://amesjaycees.com/calendar/july-membership-meeting-2/
LOCATION:Somerset Clubhouse\, 2400 Aspen Rd\, Ames\, IA\, 50010\, United States
CATEGORIES:Meetings
END:VEVENT
BEGIN:VEVENT
DTSTART;TZID=America/Chicago:20260820T183000
DTEND;TZID=America/Chicago:20260820T200000
DTSTAMP:20260423T153359
CREATED:20260116T183615Z
LAST-MODIFIED:20260116T183615Z
UID:1400-1787250600-1787256000@amesjaycees.com
SUMMARY:August Membership Meeting
DESCRIPTION:
URL:https://amesjaycees.com/calendar/august-membership-meeting-2/
LOCATION:Somerset Clubhouse\, 2400 Aspen Rd\, Ames\, IA\, 50010\, United States
CATEGORIES:Meetings
END:VEVENT
BEGIN:VEVENT
DTSTART;TZID=America/Chicago:20260917T183000
DTEND;TZID=America/Chicago:20260917T200000
DTSTAMP:20260423T153359
CREATED:20260116T183653Z
LAST-MODIFIED:20260116T183653Z
UID:1402-1789669800-1789675200@amesjaycees.com
SUMMARY:September Membership Meeting
DESCRIPTION:
URL:https://amesjaycees.com/calendar/september-membership-meeting-2/
LOCATION:Somerset Clubhouse\, 2400 Aspen Rd\, Ames\, IA\, 50010\, United States
CATEGORIES:Meetings
END:VEVENT
BEGIN:VEVENT
DTSTART;TZID=America/Chicago:20261015T183000
DTEND;TZID=America/Chicago:20261015T200000
DTSTAMP:20260423T153359
CREATED:20260116T183730Z
LAST-MODIFIED:20260116T183730Z
UID:1404-1792089000-1792094400@amesjaycees.com
SUMMARY:October Membership Meeting
DESCRIPTION:
URL:https://amesjaycees.com/calendar/october-membership-meeting-2/
LOCATION:Somerset Clubhouse\, 2400 Aspen Rd\, Ames\, IA\, 50010\, United States
CATEGORIES:Meetings
END:VEVENT
BEGIN:VEVENT
DTSTART;TZID=America/Chicago:20261119T183000
DTEND;TZID=America/Chicago:20261119T200000
DTSTAMP:20260423T153359
CREATED:20260116T183805Z
LAST-MODIFIED:20260116T183805Z
UID:1406-1795113000-1795118400@amesjaycees.com
SUMMARY:November Membership Meeting
DESCRIPTION:
URL:https://amesjaycees.com/calendar/november-membership-meeting/
LOCATION:Somerset Clubhouse\, 2400 Aspen Rd\, Ames\, IA\, 50010\, United States
CATEGORIES:Meetings
END:VEVENT
BEGIN:VEVENT
DTSTART;TZID=America/Chicago:20261217T183000
DTEND;TZID=America/Chicago:20261217T200000
DTSTAMP:20260423T153359
CREATED:20260116T183847Z
LAST-MODIFIED:20260116T183918Z
UID:1409-1797532200-1797537600@amesjaycees.com
SUMMARY:Holiday Party
DESCRIPTION:
URL:https://amesjaycees.com/calendar/holiday-party-2/
LOCATION:Somerset Clubhouse\, 2400 Aspen Rd\, Ames\, IA\, 50010\, United States
CATEGORIES:Meetings
END:VEVENT
END:VCALENDAR