BEGIN:VCALENDAR
VERSION:2.0
PRODID:-//JCI Ames (Ames Jaycees) - ECPv6.13.2.1//NONSGML v1.0//EN
CALSCALE:GREGORIAN
METHOD:PUBLISH
X-WR-CALNAME:JCI Ames (Ames Jaycees)
X-ORIGINAL-URL:https://amesjaycees.com
X-WR-CALDESC:Events for JCI Ames (Ames Jaycees)
REFRESH-INTERVAL;VALUE=DURATION:PT1H
X-Robots-Tag:noindex
X-PUBLISHED-TTL:PT1H
BEGIN:VTIMEZONE
TZID:America/Chicago
BEGIN:DAYLIGHT
TZOFFSETFROM:-0600
TZOFFSETTO:-0500
TZNAME:CDT
DTSTART:20240310T080000
END:DAYLIGHT
BEGIN:STANDARD
TZOFFSETFROM:-0500
TZOFFSETTO:-0600
TZNAME:CST
DTSTART:20241103T070000
END:STANDARD
BEGIN:DAYLIGHT
TZOFFSETFROM:-0600
TZOFFSETTO:-0500
TZNAME:CDT
DTSTART:20250309T080000
END:DAYLIGHT
BEGIN:STANDARD
TZOFFSETFROM:-0500
TZOFFSETTO:-0600
TZNAME:CST
DTSTART:20251102T070000
END:STANDARD
END:VTIMEZONE
BEGIN:VEVENT
DTSTART;TZID=America/Chicago:20250116T180000
DTEND;TZID=America/Chicago:20250116T203000
DTSTAMP:20260424T060129
CREATED:20250109T201019Z
LAST-MODIFIED:20250109T201019Z
UID:1233-1737050400-1737059400@amesjaycees.com
SUMMARY:January Membership Meeting
DESCRIPTION:Happy 2025! Join the Ames Jaycees for their first Membership Meeting of 2025! Thursday\, January 16 at 6:00 PM. Dinner will begin at 6:00 PM and then formal meeting will begin at 6:30 PM. All are welcome!
URL:https://amesjaycees.com/calendar/january-membership-meeting/
LOCATION:Somerset Clubhouse\, 2400 Aspen Rd\, Ames\, IA\, 50010\, United States
CATEGORIES:Meetings
ATTACH;FMTTYPE=image/png:https://amesjaycees.com/wp-content/uploads/2025/01/January-Membership.png
END:VEVENT
BEGIN:VEVENT
DTSTART;TZID=America/Chicago:20241219T183000
DTEND;TZID=America/Chicago:20241219T203000
DTSTAMP:20260424T060129
CREATED:20241017T160348Z
LAST-MODIFIED:20241017T160348Z
UID:1208-1734633000-1734640200@amesjaycees.com
SUMMARY:Holiday Party
DESCRIPTION:Happy Holidays! Join the Ames Jaycees for a holiday party on Thursday\, December 19 at 6:30 PM in the Somerset Clubhouse. We will be doing a gift exchange – please bring an item that is new or gently used ($15) to exchange with the group.Bring a side to share for food and we will enjoy a dinner together
URL:https://amesjaycees.com/calendar/holiday-party/
LOCATION:Somerset Clubhouse\, 2400 Aspen Rd\, Ames\, IA\, 50010\, United States
CATEGORIES:Meetings,Social Events
ATTACH;FMTTYPE=image/png:https://amesjaycees.com/wp-content/uploads/2024/10/Holiday-Party-Jaycees-1.png
END:VEVENT
BEGIN:VEVENT
DTSTART;TZID=America/Chicago:20241214T080000
DTEND;TZID=America/Chicago:20241214T120000
DTSTAMP:20260424T060129
CREATED:20241114T013001Z
LAST-MODIFIED:20241211T204042Z
UID:1220-1734163200-1734177600@amesjaycees.com
SUMMARY:Volunteer Opportunity: Holiday Food Baskets
DESCRIPTION:Help support the longest running Ames Jaycees event! Holiday Food Baskets will take place on Saturday\, December 14. Please arrive to MICA at 8 AM to assemble food baskets and then we will hand them out to members of the community starting at 9 AM.
URL:https://amesjaycees.com/calendar/volunteer-opportunity-holiday-food-baskets/
LOCATION:MICA\, 230 SE 16th St.\, Ames\, IA\, 50010\, United States
CATEGORIES:Social Events
ATTACH;FMTTYPE=image/png:https://amesjaycees.com/wp-content/uploads/2024/11/Holiday-Food-Baskets-2024.png
END:VEVENT
BEGIN:VEVENT
DTSTART;TZID=America/Chicago:20241126T173000
DTEND;TZID=America/Chicago:20241126T193000
DTSTAMP:20260424T060129
CREATED:20241017T165505Z
LAST-MODIFIED:20241018T000917Z
UID:1213-1732642200-1732649400@amesjaycees.com
SUMMARY:Volunteer Opportunity: Food at First
DESCRIPTION:Join the Ames Jaycees and volunteer at Food at First. What does Food at First do? Food at First prepares and provides food to community members struggling with hunger and food insecurity! \nTuesday\, November 26 from 5:30 – 7:30 PM \nFirst Christian Church\, Ames
URL:https://amesjaycees.com/calendar/volunteer-opportunity-food-at-first/
LOCATION:Food at First
CATEGORIES:Community Outreach
ATTACH;FMTTYPE=image/png:https://amesjaycees.com/wp-content/uploads/2024/10/Volunteer-Opportunity-Food-at-First-1.png
END:VEVENT
BEGIN:VEVENT
DTSTART;TZID=America/Chicago:20241121T183000
DTEND;TZID=America/Chicago:20241121T210000
DTSTAMP:20260424T060129
CREATED:20241114T013621Z
LAST-MODIFIED:20241114T013652Z
UID:1224-1732213800-1732222800@amesjaycees.com
SUMMARY:2025 Board Elections
DESCRIPTION:Come enjoy a good meal with the Ames Jaycees and elect the 2025 board! The chapter will purchase dinner and appetizers\, individuals will be responsible for alcoholic drinks. Please RSVP so we can get an accurate head count.
URL:https://amesjaycees.com/calendar/2024-board-elections/
LOCATION:Open Flame\, 225 Main St\, Gilbert\, IA\, 50105\, United States
CATEGORIES:Meetings
ATTACH;FMTTYPE=image/png:https://amesjaycees.com/wp-content/uploads/2024/11/November-MembershipElections-1.png
END:VEVENT
BEGIN:VEVENT
DTSTART;TZID=America/Chicago:20241109T100000
DTEND;TZID=America/Chicago:20241109T120000
DTSTAMP:20260424T060129
CREATED:20241017T160136Z
LAST-MODIFIED:20241017T160136Z
UID:1204-1731146400-1731153600@amesjaycees.com
SUMMARY:Volunteer Opportunity: Salvation Army Bell Ringing
DESCRIPTION:It’s the season of giving back and this is a small way to make an impact. Let’s pick up the bell and ring for a couple hours on Saturday\, November 9 from 10 AM – 12 PM at the North Fareway. All are welcome to ring – let’s have fun and give back!
URL:https://amesjaycees.com/calendar/volunteer-opportunity-salvation-army-bell-ringing/
LOCATION:North Fareway
CATEGORIES:Community Outreach
ATTACH;FMTTYPE=image/jpeg:https://amesjaycees.com/wp-content/uploads/2024/10/Salvation-Army-November-9.jpg
END:VEVENT
BEGIN:VEVENT
DTSTART;TZID=America/Chicago:20241027T120000
DTEND;TZID=America/Chicago:20241027T140000
DTSTAMP:20260424T060129
CREATED:20240911T005612Z
LAST-MODIFIED:20240911T005612Z
UID:1194-1730030400-1730037600@amesjaycees.com
SUMMARY:ISU Volleyball vs Kansas State
DESCRIPTION:Join the Ames Jaycees for the Iowa State Women’s Volleyball game as they take down Kansas State! \nSunday\, October 27 at 12:00 PM\, Hilton Coliseum. The chapter will purchase tickets for members. Please RSVP on Facebook or Slack.
URL:https://amesjaycees.com/calendar/isu-volleyball-vs-kansas-state/
LOCATION:Hilton Coliseum\, 1705 Center Dr.\, Ames\, IA\, 50010\, United States
CATEGORIES:Social Events
ATTACH;FMTTYPE=image/png:https://amesjaycees.com/wp-content/uploads/2024/09/ISU-Volleyball.png
END:VEVENT
BEGIN:VEVENT
DTSTART;TZID=America/Chicago:20241017T180000
DTEND;TZID=America/Chicago:20241017T200000
DTSTAMP:20260424T060129
CREATED:20240911T010607Z
LAST-MODIFIED:20240911T010613Z
UID:1197-1729188000-1729195200@amesjaycees.com
SUMMARY:October Membership Meeting
DESCRIPTION:The Ames Jaycees October Membership Meeting will take place on Thursday\, October 17 at 6 PM at the Somerset Clubhouse. Dinner will be provided at 6 PM and formal meeting beginning at 6:30 PM.
URL:https://amesjaycees.com/calendar/october-membership-meeting/
LOCATION:Somerset Clubhouse\, 2400 Aspen Rd\, Ames\, IA\, 50010\, United States
CATEGORIES:Meetings
ATTACH;FMTTYPE=image/png:https://amesjaycees.com/wp-content/uploads/2024/09/October-Membership-1.png
END:VEVENT
BEGIN:VEVENT
DTSTART;TZID=America/Chicago:20241002T180000
DTEND;TZID=America/Chicago:20241002T193000
DTSTAMP:20260424T060129
CREATED:20240911T011117Z
LAST-MODIFIED:20240911T011117Z
UID:1200-1727892000-1727897400@amesjaycees.com
SUMMARY:October Supper Club: Mullet's
DESCRIPTION:Mullet’s is now open and it’s time to try it out! Join us for October Supper Club on October 2 at 6 PM! Members pay for their meals.
URL:https://amesjaycees.com/calendar/october-supper-club-mullets/
LOCATION:IA
CATEGORIES:Social Events
ATTACH;FMTTYPE=image/png:https://amesjaycees.com/wp-content/uploads/2024/09/October-Supper-Club.png
END:VEVENT
BEGIN:VEVENT
DTSTART;TZID=America/Chicago:20240927T170000
DTEND;TZID=America/Chicago:20240928T230000
DTSTAMP:20260424T060129
CREATED:20240815T032115Z
LAST-MODIFIED:20240815T032115Z
UID:1174-1727456400-1727564400@amesjaycees.com
SUMMARY:2024 Fall Mid-Year All State
DESCRIPTION:‭Network with other chapters\, attend training sessions\, and celebrate ‭our accomplishments for the first-half year awards! Early registration by August 31st.‬
URL:https://amesjaycees.com/calendar/2024-fall-mid-year-all-state/
LOCATION:Best Western Holiday Lodge\, 2023 7th Ave N\, Clear lake\, IA\, 50428\, United States
ATTACH;FMTTYPE=image/jpeg:https://amesjaycees.com/wp-content/uploads/2024/08/449222219_886993010120434_1487038168443164646_n.jpg
END:VEVENT
BEGIN:VEVENT
DTSTART;TZID=America/Chicago:20240919T180000
DTEND;TZID=America/Chicago:20240919T200000
DTSTAMP:20260424T060129
CREATED:20240815T030535Z
LAST-MODIFIED:20240815T030535Z
UID:1171-1726768800-1726776000@amesjaycees.com
SUMMARY:September Membership Meeting
DESCRIPTION:September Membership Meeting on Thursday\, September 19 at 6:00 PM. Dinner will begin at 6:00 PM and then formal meeting will begin at 6:30 PM. All are welcome!
URL:https://amesjaycees.com/calendar/september-membership-meeting/
LOCATION:Somerset Clubhouse\, 2400 Aspen Rd\, Ames\, IA\, 50010\, United States
END:VEVENT
BEGIN:VEVENT
DTSTART;TZID=America/Chicago:20240914T180000
DTEND;TZID=America/Chicago:20240914T203000
DTSTAMP:20260424T060129
CREATED:20240717T004916Z
LAST-MODIFIED:20240717T005101Z
UID:1158-1726336800-1726345800@amesjaycees.com
SUMMARY:Iowa Cubs Baseball Game
DESCRIPTION:The Ames Jaycees go to the Iowa Cubs game! Join us for Saturday\, September 14 to cheer on the Iowa Cubs! Chapter will pay for ticket to the game – please RSVP on Facebook Event to attend.
URL:https://amesjaycees.com/calendar/iowa-cubs-baseball-game/
LOCATION:IA
CATEGORIES:Social Events
ATTACH;FMTTYPE=image/png:https://amesjaycees.com/wp-content/uploads/2024/07/Iowa-Cubs-Event.png
END:VEVENT
BEGIN:VEVENT
DTSTART;TZID=America/Chicago:20240908T070000
DTEND;TZID=America/Chicago:20240908T120000
DTSTAMP:20260424T060129
CREATED:20240724T214706Z
LAST-MODIFIED:20240724T214706Z
UID:1165-1725778800-1725796800@amesjaycees.com
SUMMARY:2024 Great Ames Adventure Race
DESCRIPTION:Jaycees and community volunteers will be needed at various stations throughout the event. A signup sheet will be sent via email for you to sign up for specific tasks.
URL:https://amesjaycees.com/calendar/2024-great-ames-adventure-race/
LOCATION:Ada Hayden Park\, 5205 Grand Ave\, Ames\, IA\, 50010\, United States
CATEGORIES:Great Ames Adventure Race
ATTACH;FMTTYPE=image/jpeg:https://amesjaycees.com/wp-content/uploads/2024/07/285421953_5541883405833689_2321738066201987632_n.jpg
END:VEVENT
BEGIN:VEVENT
DTSTART;TZID=America/Chicago:20240831T093000
DTEND;TZID=America/Chicago:20240831T133000
DTSTAMP:20260424T060129
CREATED:20240815T032444Z
LAST-MODIFIED:20240815T032444Z
UID:1184-1725096600-1725111000@amesjaycees.com
SUMMARY:ISU Football Tailgate
DESCRIPTION:Join the Ames Jaycees in supporting the ISU Cyclones as they take on the Fighting Hawks! The chapter will provide walking tacos and drinks. Come and go as you please and feel free to bring a lawn chair. As always\, the more\, the merrier so bring a friend or two as well! We’re looking forward to seeing you there!
URL:https://amesjaycees.com/calendar/isu-football-tailgate/
LOCATION:Vet Med parking lot 93
CATEGORIES:Social Events
ATTACH;FMTTYPE=image/jpeg:https://amesjaycees.com/wp-content/uploads/2024/08/455282447_1040188688108949_8226687366420590552_n.jpg
END:VEVENT
BEGIN:VEVENT
DTSTART;TZID=America/Chicago:20240815T180000
DTEND;TZID=America/Chicago:20240815T200000
DTSTAMP:20260424T060129
CREATED:20240717T005259Z
LAST-MODIFIED:20240717T005433Z
UID:1161-1723744800-1723752000@amesjaycees.com
SUMMARY:August Membership Meeting
DESCRIPTION:August Membership Meeting on Thursday\, August 15 at 6:00 PM. Dinner will begin at 6:00 PM and then formal meeting will begin at 6:30 PM. All are welcome!
URL:https://amesjaycees.com/calendar/august-membership-meeting/
LOCATION:Somerset Clubhouse\, 2400 Aspen Rd\, Ames\, IA\, 50010\, United States
CATEGORIES:Meetings
ATTACH;FMTTYPE=image/png:https://amesjaycees.com/wp-content/uploads/2024/07/August-Membership.png
END:VEVENT
BEGIN:VEVENT
DTSTART;TZID=America/Chicago:20240808T180000
DTEND;TZID=America/Chicago:20240808T193000
DTSTAMP:20260424T060129
CREATED:20240717T001036Z
LAST-MODIFIED:20240717T005111Z
UID:1154-1723140000-1723145400@amesjaycees.com
SUMMARY:August Supper Club
DESCRIPTION:Join us for August Supper Club at the new location at Wasabi in Ames! Thursday\, August 8 at 6 PM. Members pay for their own meal.
URL:https://amesjaycees.com/calendar/august-supper-club/
LOCATION:Wasabi Ames\, 2707 Kent Avenue\, Ames\, IA\, 50010
CATEGORIES:Social Events
ATTACH;FMTTYPE=image/png:https://amesjaycees.com/wp-content/uploads/2024/07/August-Supper-Club-2024.png
END:VEVENT
BEGIN:VEVENT
DTSTART;VALUE=DATE:20240726
DTEND;VALUE=DATE:20240727
DTSTAMP:20260424T060129
CREATED:20240612T184018Z
LAST-MODIFIED:20240612T184018Z
UID:1150-1721952000-1722038399@amesjaycees.com
SUMMARY:Volunteer at Georges Niang Golf Tournament
DESCRIPTION:The Ames Jaycees will have a table at the Georges Niang Golf Tournament. More details and information to come.
URL:https://amesjaycees.com/calendar/volunteer-at-georges-niang-golf-tournament/
LOCATION:IA
END:VEVENT
BEGIN:VEVENT
DTSTART;TZID=America/Chicago:20240718T180000
DTEND;TZID=America/Chicago:20240718T200000
DTSTAMP:20260424T060129
CREATED:20240612T183857Z
LAST-MODIFIED:20240612T183857Z
UID:1147-1721325600-1721332800@amesjaycees.com
SUMMARY:July Membership Meeting
DESCRIPTION:Come join us for our July Membership Meeting! Dinner will be provided at 6 PM and then meeting will begin at 6:30 PM.
URL:https://amesjaycees.com/calendar/july-membership-meeting/
LOCATION:Somerset Clubhouse\, 2400 Aspen Rd\, Ames\, IA\, 50010\, United States
ATTACH;FMTTYPE=image/png:https://amesjaycees.com/wp-content/uploads/2024/06/July-Membership.png
END:VEVENT
BEGIN:VEVENT
DTSTART;TZID=America/Chicago:20240711T180000
DTEND;TZID=America/Chicago:20240711T200000
DTSTAMP:20260424T060129
CREATED:20240612T002601Z
LAST-MODIFIED:20240612T002601Z
UID:1141-1720720800-1720728000@amesjaycees.com
SUMMARY:Ames on the Half Shell Appreciation Party
DESCRIPTION:Volunteering for Ames on the Half Shell is a lot of work – THANK YOU! To celebrate a successful season and to thank those who volunteered\, we would like to host a dinner at Fuji Japanese Steakhouse! \nJoin us at Fuji at 6 PM on Thursday\, July 11. Chapter will pay for meal – alcoholic beverages are at your own cost.
URL:https://amesjaycees.com/calendar/ames-on-the-half-shell-appreciation-party/
LOCATION:Fuji Japanese Steakhouse\, 1614 S Kellogg Ave #101\, Ames\, IA\, 50010\, United States
CATEGORIES:Ames on the Half Shell,Social Events
END:VEVENT
BEGIN:VEVENT
DTSTART;TZID=America/Chicago:20240628T170000
DTEND;TZID=America/Chicago:20240628T200000
DTSTAMP:20260424T060129
CREATED:20240405T022018Z
LAST-MODIFIED:20240425T160344Z
UID:1074-1719594000-1719604800@amesjaycees.com
SUMMARY:Ames on the Half Shell - Stranger Than Fiction
DESCRIPTION:Join us for Ames on the Half Shell (presented by Ames Jaycees) with Stranger Than Fiction! 5-8 p.m. at Durham Bandshell Park.\nAdmission: $5 (cash preferred\, processing fees apply for credit card payment)Discounted season passes are available at https://amesonthehalfshell.com/tickets\nBeverages from our beer tent include six different beers\, hard seltzer\, hard cider\, water\, and pop.$6/one alcoholic drink\, $15/three alcoholic drinks\, and $1/pop or water
URL:https://amesjaycees.com/calendar/ames-on-the-half-shell-june-28/
LOCATION:Durham Band Shell Park\, 125 E 5th St\, Ames\, IA\, 50010\, United States
CATEGORIES:Ames on the Half Shell
ATTACH;FMTTYPE=image/jpeg:https://amesjaycees.com/wp-content/uploads/2024/04/438077958_911859037407686_5507867066452643112_n.jpg
END:VEVENT
BEGIN:VEVENT
DTSTART;TZID=America/Chicago:20240621T170000
DTEND;TZID=America/Chicago:20240621T200000
DTSTAMP:20260424T060129
CREATED:20240405T021920Z
LAST-MODIFIED:20240425T160239Z
UID:1072-1718989200-1719000000@amesjaycees.com
SUMMARY:Ames on the Half Shell - Kinda Petty
DESCRIPTION:Join us for Ames on the Half Shell (presented by Ames Jaycees) with Kinda Petty! 5-8 p.m. at Durham Bandshell Park.\nAdmission: $5 (cash preferred\, processing fees apply for credit card payment)Discounted season passes are available at https://amesonthehalfshell.com/tickets\nBeverages from our beer tent include six different beers\, hard seltzer\, hard cider\, water\, and pop.$6/one alcoholic drink\, $15/three alcoholic drinks\, and $1/pop or water
URL:https://amesjaycees.com/calendar/ames-on-the-half-shell-june-21/
LOCATION:Durham Band Shell Park\, 125 E 5th St\, Ames\, IA\, 50010\, United States
CATEGORIES:Ames on the Half Shell
ATTACH;FMTTYPE=image/jpeg:https://amesjaycees.com/wp-content/uploads/2024/04/438705474_911858154074441_6735057313913505505_n.jpg
END:VEVENT
BEGIN:VEVENT
DTSTART;TZID=America/Chicago:20240620T180000
DTEND;TZID=America/Chicago:20240620T200000
DTSTAMP:20260424T060129
CREATED:20240612T183750Z
LAST-MODIFIED:20240612T183750Z
UID:1144-1718906400-1718913600@amesjaycees.com
SUMMARY:June Membership Meeting
DESCRIPTION:Join us for our June Membership Meeting! We will eat dinner at 6 PM and meeting will begin at 6:30 PM. All are welcome!
URL:https://amesjaycees.com/calendar/june-membership-meeting/
LOCATION:Somerset Clubhouse\, 2400 Aspen Rd\, Ames\, IA\, 50010\, United States
ATTACH;FMTTYPE=image/png:https://amesjaycees.com/wp-content/uploads/2024/06/JuneMembership.png
END:VEVENT
BEGIN:VEVENT
DTSTART;TZID=America/Chicago:20240614T170000
DTEND;TZID=America/Chicago:20240614T200000
DTSTAMP:20260424T060129
CREATED:20240405T021832Z
LAST-MODIFIED:20240425T160005Z
UID:1070-1718384400-1718395200@amesjaycees.com
SUMMARY:Ames on the Half Shell - Burnin' Sensations
DESCRIPTION:Join us for Ames on the Half Shell (presented by Ames Jaycees) with Burnin’ Sensations! 5-8 p.m. at Durham Bandshell Park.\nAdmission: $5 (cash preferred\, processing fees apply for credit card payment)Discounted season passes are available at https://amesonthehalfshell.com/tickets\nBeverages from our beer tent include six different beers\, hard seltzer\, hard cider\, water\, and pop.$6/one alcoholic drink\, $15/three alcoholic drinks\, and $1/pop or water
URL:https://amesjaycees.com/calendar/ames-on-the-half-shell-june-14/
LOCATION:Durham Band Shell Park\, 125 E 5th St\, Ames\, IA\, 50010\, United States
CATEGORIES:Ames on the Half Shell
ATTACH;FMTTYPE=image/jpeg:https://amesjaycees.com/wp-content/uploads/2024/04/435703656_911857514074505_8471469600996193081_n.jpg
END:VEVENT
BEGIN:VEVENT
DTSTART;TZID=America/Chicago:20240612T170000
DTEND;TZID=America/Chicago:20240612T200000
DTSTAMP:20260424T060129
CREATED:20240509T150805Z
LAST-MODIFIED:20240509T150805Z
UID:1128-1718211600-1718222400@amesjaycees.com
SUMMARY:Social: North Grand After Sundown
DESCRIPTION:Enjoy time with friends and getting involved in the Ames community! The North Grand Mall is hosting an After Sundown Event! There will be food trucks\, music\, and FUN! \nPart of the “After Sundown” series. Located at North Grand Mall parking lot. \n 
URL:https://amesjaycees.com/calendar/social-north-grand-after-sundown/
LOCATION:North Grand Mall\, 2801 Grand Ave\, Ames\, IA\, 50010\, United States
CATEGORIES:Social Events
END:VEVENT
BEGIN:VEVENT
DTSTART;TZID=America/Chicago:20240611T180000
DTEND;TZID=America/Chicago:20240611T200000
DTSTAMP:20260424T060129
CREATED:20240509T144407Z
LAST-MODIFIED:20240509T144407Z
UID:1121-1718128800-1718136000@amesjaycees.com
SUMMARY:Ames Jaycees Board Meeting
DESCRIPTION:Ames Jaycees Board Meeting on Tuesday\, June 11 at 6 PM in Gilbert.
URL:https://amesjaycees.com/calendar/ames-jaycees-board-meeting/
LOCATION:IA
END:VEVENT
BEGIN:VEVENT
DTSTART;TZID=America/Chicago:20240607T170000
DTEND;TZID=America/Chicago:20240607T200000
DTSTAMP:20260424T060129
CREATED:20240405T021742Z
LAST-MODIFIED:20240425T160106Z
UID:1068-1717779600-1717790400@amesjaycees.com
SUMMARY:Ames on the Half Shell - Saucy Jack
DESCRIPTION:Join us for Ames on the Half Shell (presented by Ames Jaycees) with Saucy Jack! 5-8 p.m. at Durham Bandshell Park.\nAdmission: $5 (cash preferred\, processing fees apply for credit card payment)Discounted season passes are available at https://amesonthehalfshell.com/tickets\nBeverages from our beer tent include six different beers\, hard seltzer\, hard cider\, water\, and pop.$6/one alcoholic drink\, $15/three alcoholic drinks\, and $1/pop or water
URL:https://amesjaycees.com/calendar/ames-on-the-half-shell-june-7/
LOCATION:Durham Band Shell Park\, 125 E 5th St\, Ames\, IA\, 50010\, United States
CATEGORIES:Ames on the Half Shell
ATTACH;FMTTYPE=image/jpeg:https://amesjaycees.com/wp-content/uploads/2024/04/438805525_911856847407905_7195478622769235227_n.jpg
END:VEVENT
BEGIN:VEVENT
DTSTART;TZID=America/Chicago:20240531T170000
DTEND;TZID=America/Chicago:20240531T200000
DTSTAMP:20260424T060129
CREATED:20240405T021651Z
LAST-MODIFIED:20240425T155854Z
UID:1066-1717174800-1717185600@amesjaycees.com
SUMMARY:Ames on the Half Shell - Jake Doty and the Swensongs
DESCRIPTION:Join us for Ames on the Half Shell (presented by Ames Jaycees) with Jake Doty and the Swensongs! 5-8 p.m. at Durham Bandshell Park.\nAdmission: $5 (cash preferred\, processing fees apply for credit card payment)Discounted season passes are available at https://amesonthehalfshell.com/tickets\nBeverages from our beer tent include six different beers\, hard seltzer\, hard cider\, water\, and pop.$6/one alcoholic drink\, $15/three alcoholic drinks\, and $1/pop or water \nSee less
URL:https://amesjaycees.com/calendar/ames-on-the-half-shell-may-31/
LOCATION:Durham Band Shell Park\, 125 E 5th St\, Ames\, IA\, 50010\, United States
CATEGORIES:Ames on the Half Shell
ATTACH;FMTTYPE=image/jpeg:https://amesjaycees.com/wp-content/uploads/2024/04/438801701_911855957407994_4522392312415691213_n.jpg
END:VEVENT
BEGIN:VEVENT
DTSTART;TZID=America/Chicago:20240529T180000
DTEND;TZID=America/Chicago:20240529T200000
DTSTAMP:20260424T060129
CREATED:20240515T153450Z
LAST-MODIFIED:20240515T153524Z
UID:1135-1717005600-1717012800@amesjaycees.com
SUMMARY:Ames on the Half Shell Kick-Off Party!
DESCRIPTION:Ames on the Half Shell is almost near! Come celebrate the season beginning by getting your shirt\, bowling and eating pizza! \nSign-up for time slots on the Sign-Up Genius: https://www.signupgenius.com/go/904094DACAD2BA7FD0-49489904-ames#/
URL:https://amesjaycees.com/calendar/ames-on-the-half-shell-kick-off-party/
LOCATION:Perfect Games\, 1320 Dickinson Ave\, Ames\, IA\, United States
CATEGORIES:Ames on the Half Shell,Meetings
ATTACH;FMTTYPE=image/png:https://amesjaycees.com/wp-content/uploads/2024/05/AOTHS-Kick-Off-Party.png
END:VEVENT
BEGIN:VEVENT
DTSTART;TZID=America/Chicago:20240517T170000
DTEND;TZID=America/Chicago:20240517T190000
DTSTAMP:20260424T060129
CREATED:20240509T145825Z
LAST-MODIFIED:20240509T150155Z
UID:1123-1715965200-1715972400@amesjaycees.com
SUMMARY:Adopt-a-Garden Planting
DESCRIPTION:The Ames Jaycees have adopted a garden for the year! Planting can begin on May 17 – time will be determined closer to the date\, but likely around 5 PM. Come get your hands dirty and make Ames beautiful! \nOur locations are the Ames Ice Arena and North River Valley Park.
URL:https://amesjaycees.com/calendar/adopt-a-garden-planting/
LOCATION:Ames Ice Arena / North River Valley Park
CATEGORIES:Community Outreach
END:VEVENT
BEGIN:VEVENT
DTSTART;TZID=America/Chicago:20240517T100000
DTEND;TZID=America/Chicago:20240517T140000
DTSTAMP:20260424T060129
CREATED:20240411T003428Z
LAST-MODIFIED:20240411T005057Z
UID:1084-1715940000-1715954400@amesjaycees.com
SUMMARY:Volunteer at Special Olympics
DESCRIPTION:We will be volunteering at the Special Olympics on Friday\, May 17. More details on volunteering and time will be determined later.
URL:https://amesjaycees.com/calendar/volunteer-at-special-olympics/
LOCATION:TBD
CATEGORIES:Community Outreach
END:VEVENT
END:VCALENDAR