BEGIN:VCALENDAR
VERSION:2.0
PRODID:-//JCI Ames (Ames Jaycees) - ECPv6.13.2.1//NONSGML v1.0//EN
CALSCALE:GREGORIAN
METHOD:PUBLISH
X-WR-CALNAME:JCI Ames (Ames Jaycees)
X-ORIGINAL-URL:https://amesjaycees.com
X-WR-CALDESC:Events for JCI Ames (Ames Jaycees)
REFRESH-INTERVAL;VALUE=DURATION:PT1H
X-Robots-Tag:noindex
X-PUBLISHED-TTL:PT1H
BEGIN:VTIMEZONE
TZID:America/Chicago
BEGIN:DAYLIGHT
TZOFFSETFROM:-0600
TZOFFSETTO:-0500
TZNAME:CDT
DTSTART:20240310T080000
END:DAYLIGHT
BEGIN:STANDARD
TZOFFSETFROM:-0500
TZOFFSETTO:-0600
TZNAME:CST
DTSTART:20241103T070000
END:STANDARD
END:VTIMEZONE
BEGIN:VEVENT
DTSTART;TZID=America/Chicago:20240131T123000
DTEND;TZID=America/Chicago:20240131T140000
DTSTAMP:20260425T063442
CREATED:20240130T080928Z
LAST-MODIFIED:20240130T081652Z
UID:398-1706704200-1706709600@amesjaycees.com
SUMMARY:Rescheduled Event: Iowa State Women's Basketball Game
DESCRIPTION:Let’s try this again (hopefully without a blizzard and subzero temps!). Let’s cheer on the Iowa State Women’s Basketball team as they face Oklahoma State!\nGame starts at 6:30 PM. Let’s meet by the ticket office doors at 6:15 PM. Members purchase tickets.
URL:https://amesjaycees.com/calendar/rescheduled-event-iowa-state-womens-basketball-game/
LOCATION:Hilton Coliseum\, 1705 Center Dr.\, Ames\, IA\, 50010\, United States
CATEGORIES:Social Events
ATTACH;FMTTYPE=image/jpeg:https://amesjaycees.com/wp-content/uploads/2024/01/419876972_889141746546978_7248067741159590049_n.jpeg
END:VEVENT
END:VCALENDAR