BEGIN:VCALENDAR
VERSION:2.0
PRODID:-//JCI Ames (Ames Jaycees) - ECPv6.13.2.1//NONSGML v1.0//EN
CALSCALE:GREGORIAN
METHOD:PUBLISH
X-ORIGINAL-URL:https://amesjaycees.com
X-WR-CALDESC:Events for JCI Ames (Ames Jaycees)
REFRESH-INTERVAL;VALUE=DURATION:PT1H
X-Robots-Tag:noindex
X-PUBLISHED-TTL:PT1H
BEGIN:VTIMEZONE
TZID:America/Chicago
BEGIN:DAYLIGHT
TZOFFSETFROM:-0600
TZOFFSETTO:-0500
TZNAME:CDT
DTSTART:20250309T080000
END:DAYLIGHT
BEGIN:STANDARD
TZOFFSETFROM:-0500
TZOFFSETTO:-0600
TZNAME:CST
DTSTART:20251102T070000
END:STANDARD
BEGIN:DAYLIGHT
TZOFFSETFROM:-0600
TZOFFSETTO:-0500
TZNAME:CDT
DTSTART:20260308T080000
END:DAYLIGHT
BEGIN:STANDARD
TZOFFSETFROM:-0500
TZOFFSETTO:-0600
TZNAME:CST
DTSTART:20261101T070000
END:STANDARD
END:VTIMEZONE
BEGIN:VEVENT
DTSTART;TZID=America/Chicago:20251218T183000
DTEND;TZID=America/Chicago:20251218T203000
DTSTAMP:20260425T095511
CREATED:20251205T221426Z
LAST-MODIFIED:20251205T221426Z
UID:1354-1766082600-1766089800@amesjaycees.com
SUMMARY:Holiday Party 2025
DESCRIPTION:Happy Holidays! Join the Ames Jaycees for a holiday party on Thursday\, December 18 at 6:30 PM in the Somerset Clubhouse. We will be doing a gift exchange – please bring an item that is new or gently used ($10 or more) to exchange with the group. \nBring a side to share for food and we will enjoy a dinner together.
URL:https://amesjaycees.com/calendar/holiday-party-2025/
LOCATION:Somerset Clubhouse\, 2400 Aspen Rd\, Ames\, IA\, 50010\, United States
CATEGORIES:Meetings,Social Events
END:VEVENT
BEGIN:VEVENT
DTSTART;TZID=America/Chicago:20260115T183000
DTEND;TZID=America/Chicago:20260115T200000
DTSTAMP:20260425T095511
CREATED:20260112T145026Z
LAST-MODIFIED:20260112T145026Z
UID:1362-1768501800-1768507200@amesjaycees.com
SUMMARY:January Membership Meeting
DESCRIPTION:Start the year of 2026 off right – join us for our January Membership Meeting! \nDinner will be served at 6 PM\, with meeting beginning at 6:30 PM. We will be swearing in our new board members and creating goals for 2026! \nAll are welcome to join! \n 
URL:https://amesjaycees.com/calendar/january-membership-meeting-2/
LOCATION:Somerset Clubhouse\, 2400 Aspen Rd\, Ames\, IA\, 50010\, United States
CATEGORIES:Meetings
END:VEVENT
BEGIN:VEVENT
DTSTART;TZID=America/Chicago:20260219T183000
DTEND;TZID=America/Chicago:20260219T200000
DTSTAMP:20260425T095511
CREATED:20260115T165758Z
LAST-MODIFIED:20260121T172937Z
UID:1373-1771525800-1771531200@amesjaycees.com
SUMMARY:February Membership Meeting
DESCRIPTION:Join the Ames Jaycees for our February Membership Meeting! This will be a special meeting since we will have a professional development opportunity with Piece and Freedom\, a woman & Ukrainian owned bakery in Ames! We are excited to have a conversation with them and learn more about their company! \n6:30 PM on February 19 at Somerset Clubhouse
URL:https://amesjaycees.com/calendar/february-membership-meeting-2/
LOCATION:Somerset Clubhouse\, 2400 Aspen Rd\, Ames\, IA\, 50010\, United States
CATEGORIES:Meetings,Professional Development
END:VEVENT
BEGIN:VEVENT
DTSTART;TZID=America/Chicago:20260319T183000
DTEND;TZID=America/Chicago:20260319T200000
DTSTAMP:20260425T095511
CREATED:20260116T183344Z
LAST-MODIFIED:20260116T183344Z
UID:1391-1773945000-1773950400@amesjaycees.com
SUMMARY:March Membership Meeting
DESCRIPTION:
URL:https://amesjaycees.com/calendar/march-membership-meeting/
LOCATION:Somerset Clubhouse\, 2400 Aspen Rd\, Ames\, IA\, 50010\, United States
CATEGORIES:Meetings
END:VEVENT
BEGIN:VEVENT
DTSTART;TZID=America/Chicago:20260416T183000
DTEND;TZID=America/Chicago:20260416T200000
DTSTAMP:20260425T095511
CREATED:20260116T183427Z
LAST-MODIFIED:20260116T183427Z
UID:1394-1776364200-1776369600@amesjaycees.com
SUMMARY:April Membership Meeting
DESCRIPTION:
URL:https://amesjaycees.com/calendar/april-membership-meeting/
LOCATION:Somerset Clubhouse\, 2400 Aspen Rd\, Ames\, IA\, 50010\, United States
CATEGORIES:Meetings
END:VEVENT
BEGIN:VEVENT
DTSTART;TZID=America/Chicago:20260521T080000
DTEND;TZID=America/Chicago:20260521T170000
DTSTAMP:20260425T095511
CREATED:20260116T183457Z
LAST-MODIFIED:20260116T183457Z
UID:1396-1779350400-1779382800@amesjaycees.com
SUMMARY:May Membership Meeting
DESCRIPTION:
URL:https://amesjaycees.com/calendar/may-membership-meeting-2/
LOCATION:Somerset Clubhouse\, 2400 Aspen Rd\, Ames\, IA\, 50010\, United States
CATEGORIES:Meetings
END:VEVENT
BEGIN:VEVENT
DTSTART;TZID=America/Chicago:20260716T183000
DTEND;TZID=America/Chicago:20260716T200000
DTSTAMP:20260425T095511
CREATED:20260116T183539Z
LAST-MODIFIED:20260116T183539Z
UID:1398-1784226600-1784232000@amesjaycees.com
SUMMARY:July Membership Meeting
DESCRIPTION:
URL:https://amesjaycees.com/calendar/july-membership-meeting-2/
LOCATION:Somerset Clubhouse\, 2400 Aspen Rd\, Ames\, IA\, 50010\, United States
CATEGORIES:Meetings
END:VEVENT
BEGIN:VEVENT
DTSTART;TZID=America/Chicago:20260820T183000
DTEND;TZID=America/Chicago:20260820T200000
DTSTAMP:20260425T095511
CREATED:20260116T183615Z
LAST-MODIFIED:20260116T183615Z
UID:1400-1787250600-1787256000@amesjaycees.com
SUMMARY:August Membership Meeting
DESCRIPTION:
URL:https://amesjaycees.com/calendar/august-membership-meeting-2/
LOCATION:Somerset Clubhouse\, 2400 Aspen Rd\, Ames\, IA\, 50010\, United States
CATEGORIES:Meetings
END:VEVENT
BEGIN:VEVENT
DTSTART;TZID=America/Chicago:20260917T183000
DTEND;TZID=America/Chicago:20260917T200000
DTSTAMP:20260425T095511
CREATED:20260116T183653Z
LAST-MODIFIED:20260116T183653Z
UID:1402-1789669800-1789675200@amesjaycees.com
SUMMARY:September Membership Meeting
DESCRIPTION:
URL:https://amesjaycees.com/calendar/september-membership-meeting-2/
LOCATION:Somerset Clubhouse\, 2400 Aspen Rd\, Ames\, IA\, 50010\, United States
CATEGORIES:Meetings
END:VEVENT
BEGIN:VEVENT
DTSTART;TZID=America/Chicago:20261015T183000
DTEND;TZID=America/Chicago:20261015T200000
DTSTAMP:20260425T095511
CREATED:20260116T183730Z
LAST-MODIFIED:20260116T183730Z
UID:1404-1792089000-1792094400@amesjaycees.com
SUMMARY:October Membership Meeting
DESCRIPTION:
URL:https://amesjaycees.com/calendar/october-membership-meeting-2/
LOCATION:Somerset Clubhouse\, 2400 Aspen Rd\, Ames\, IA\, 50010\, United States
CATEGORIES:Meetings
END:VEVENT
BEGIN:VEVENT
DTSTART;TZID=America/Chicago:20261119T183000
DTEND;TZID=America/Chicago:20261119T200000
DTSTAMP:20260425T095511
CREATED:20260116T183805Z
LAST-MODIFIED:20260116T183805Z
UID:1406-1795113000-1795118400@amesjaycees.com
SUMMARY:November Membership Meeting
DESCRIPTION:
URL:https://amesjaycees.com/calendar/november-membership-meeting/
LOCATION:Somerset Clubhouse\, 2400 Aspen Rd\, Ames\, IA\, 50010\, United States
CATEGORIES:Meetings
END:VEVENT
BEGIN:VEVENT
DTSTART;TZID=America/Chicago:20261217T183000
DTEND;TZID=America/Chicago:20261217T200000
DTSTAMP:20260425T095511
CREATED:20260116T183847Z
LAST-MODIFIED:20260116T183918Z
UID:1409-1797532200-1797537600@amesjaycees.com
SUMMARY:Holiday Party
DESCRIPTION:
URL:https://amesjaycees.com/calendar/holiday-party-2/
LOCATION:Somerset Clubhouse\, 2400 Aspen Rd\, Ames\, IA\, 50010\, United States
CATEGORIES:Meetings
END:VEVENT
END:VCALENDAR